BEGIN:VCALENDAR
VERSION:2.0
PRODID:-//hacksw/handcal//NONSGML v1.0//EN
BEGIN:VEVENT
DTSTART:20140417T140000
DTEND:20140417T160000
LOCATION:ESG Management School \n25, Rue Saint-Ambroise \n75011 PARIS
ORGANIZER;CN=Beata BORKOWSKA:MAILTO:
SUMMARY:Défi Têtes Rasées de l'ESG Management School
DESCRIPTION:\nL'ESG Management School se mobilise pour le cancer du sein et lance....\n \nun Défi Têtes Rasées \nle jeudi 17 avril 2014 à 14h00\nà l'ESG Management School\n25, rue Saint-Ambroise - 75011...
URL:https://www.alumni-psbedu.paris/en/event/defi-tetes-rasees-de-l-esg-management-school/2014/04/17/125
BEGIN:VALARM
TRIGGER:-P0DT1H0M0S
ACTION:DISPLAY
END:VALARM
END:VEVENT
END:VCALENDAR