BEGIN:VCALENDAR
VERSION:2.0
PRODID:-//hacksw/handcal//NONSGML v1.0//EN
BEGIN:VEVENT
DTSTART:20150305T200000
DTEND:20150305T230000
LOCATION:Le restaurant l'Amiral \n1, Rue de la Motte Picquet \n35000 RENNES
ORGANIZER;CN=Beata BORKOWSKA:MAILTO:
SUMMARY:Club ESG MS BRETAGNE - Dîner
DESCRIPTION:\n \nChers Diplômés,\nVotre ambassadeur du Club ESG MS Alumni Bretagne,\nClément Villeroy de Galhau (Promotion 1995)\nvous propose de vous retrouver lors d'un dîner\n \n le jeudi 5 mars 2015 à 20...
URL:https://www.alumni-psbedu.paris/en/event/club-esg-ms-bretagne-diner/2015/03/05/167
BEGIN:VALARM
TRIGGER:-P0DT1H0M0S
ACTION:DISPLAY
END:VALARM
END:VEVENT
END:VCALENDAR