BEGIN:VCALENDAR
VERSION:2.0
PRODID:-//hacksw/handcal//NONSGML v1.0//EN
BEGIN:VEVENT
DTSTART:20130207T083000
DTEND:20130207T193000
LOCATION:siège d'Havas Sports & Entertainement  \n33, Quai de Dion Bouton \n92800 PUTEAUX
ORGANIZER;CN=Coralie Charriot:MAILTO:coralie.charriot@gmail.com
SUMMARY:Le rendez-vous du sport consacré au sport automobile
DESCRIPTION:\nLe sport automobile est confronté à de multiples défis : la crise économique et ses répercussions sur le sponsoring, la moindre diffusion télévisuelle, les considérations environnementales ou encore...
URL:https://www.alumni-psbedu.paris/en/event/le-rendez-vous-du-sport-consacre-au-sport-automobile/2013/02/07/21
BEGIN:VALARM
TRIGGER:-P0DT1H0M0S
ACTION:DISPLAY
END:VALARM
END:VEVENT
END:VCALENDAR