BEGIN:VCALENDAR
VERSION:2.0
PRODID:-//hacksw/handcal//NONSGML v1.0//EN
BEGIN:VEVENT
DTSTART:20141204T120000
DTEND:20141204T140000
LOCATION:Environs du Palais des Congrès (Porte Maillot)
ORGANIZER;CN=Beata BORKOWSKA:MAILTO:
SUMMARY:Déjeuner du Club Immobilier (en marge du SIMI)
DESCRIPTION:\nLe Salon de l'immobilier d'entreprise SIMI approche et vous êtes sans doute nombreux à assister à ce rendez-vous incontournable des professionnels de l'immobilier.\nÀ l’initiative de l’ambassadeur...
URL:https://www.alumni-psbedu.paris/en/event/dejeuner-du-club-immobilier-en-marge-du-simi/2014/12/04/213
BEGIN:VALARM
TRIGGER:-P0DT1H0M0S
ACTION:DISPLAY
END:VALARM
END:VEVENT
END:VCALENDAR