BEGIN:VCALENDAR
VERSION:2.0
PRODID:-//hacksw/handcal//NONSGML v1.0//EN
BEGIN:VEVENT
DTSTART:20150407T183000
DTEND:20150407T210000
LOCATION:Sofitel So Bangkok hotel \n2, S Sathorn Rd \n10120 BANGKOK
ORGANIZER;CN=Beata BORKOWSKA:MAILTO:
SUMMARY:AFTERWORK à Bangkok
DESCRIPTION:\nL'ambassadeur du Club ESG MS Alumni Asie du Sud-Est,\nEric Bonnel de Longchamp (Promotion 1992)\npropose de réunir les diplômés présents en Thailande\nlors d'un AFTERWORK à Bangkok\n \n le mardi 7...
URL:https://www.alumni-psbedu.paris/en/event/afterwork-a-bangkok/2015/04/07/275
BEGIN:VALARM
TRIGGER:-P0DT1H0M0S
ACTION:DISPLAY
END:VALARM
END:VEVENT
END:VCALENDAR