BEGIN:VCALENDAR
VERSION:2.0
PRODID:-//hacksw/handcal//NONSGML v1.0//EN
BEGIN:VEVENT
DTSTART:20160210T184500
DTEND:20160210T200000
LOCATION:Campus Cluster Paris Innovation
ORGANIZER;CN=Beata BORKOWSKA:MAILTO:
SUMMARY:Conférence Métiers : Digital Business
DESCRIPTION:\nVous êtes diplômé de PSB Paris School of Business (ex-ESG MS)\net exercez un métier lié au :\n- DIGITAL BUSINESS -\nVenez partager votre expérience avec les étudiants de votre école\n \nle mercredi ...
URL:https://www.alumni-psbedu.paris/en/event/conference-metiers-digital-business/2016/02/10/353
BEGIN:VALARM
TRIGGER:-P0DT1H0M0S
ACTION:DISPLAY
END:VALARM
END:VEVENT
END:VCALENDAR