BEGIN:VCALENDAR
VERSION:2.0
PRODID:-//hacksw/handcal//NONSGML v1.0//EN
BEGIN:VEVENT
DTSTART:20170204T180000
DTEND:20170204T210000
LOCATION:Hotel Marriott \n17, Boulevard Saint-Jacques \n75014 PARIS
ORGANIZER;CN=Marie-Cécile CHEVALIER:MAILTO:mc.dislaire@psbedu.paris
SUMMARY:Gala de remise des diplômes de la promotion 2016
DESCRIPTION:\n
URL:https://www.alumni-psbedu.paris/en/event/gala-de-remise-des-diplomes-de-la-promotion-2016/2017/02/04/457
BEGIN:VALARM
TRIGGER:-P0DT1H0M0S
ACTION:DISPLAY
END:VALARM
END:VEVENT
END:VCALENDAR