BEGIN:VCALENDAR
VERSION:2.0
PRODID:-//hacksw/handcal//NONSGML v1.0//EN
BEGIN:VEVENT
DTSTART:20180206T184500
DTEND:20180206T203000
LOCATION:Campus Cluster Paris Innovation \n59, Rue Nationale \n75013 PARIS
ORGANIZER;CN=Marie-Cécile CHEVALIER:MAILTO:mc.dislaire@psbedu.paris
SUMMARY:Conférence Métiers Master Management et Contrôle de Gestion
DESCRIPTION:\nVous êtes diplômé de PSB Paris School of Business (ex-ESG MS)\net exercez dans le domaine du\n- MANAGEMENT ET CONTRÔLE DE GESTION- \nVenez partager votre expérience avec les étudiants de votre...
URL:https://www.alumni-psbedu.paris/en/event/conference-metiers-master-management-et-controle-de-gestion/2018/02/06/507
BEGIN:VALARM
TRIGGER:-P0DT1H0M0S
ACTION:DISPLAY
END:VALARM
END:VEVENT
END:VCALENDAR