BEGIN:VCALENDAR
VERSION:2.0
PRODID:-//hacksw/handcal//NONSGML v1.0//EN
BEGIN:VEVENT
DTSTART:20131012T083000
DTEND:20131012T173000
LOCATION:Campus Saint Ambroise \n25, Rue Saint-Ambroise \n75011 PARIS
ORGANIZER;CN=Coralie Charriot:MAILTO:coralie.charriot@gmail.com
SUMMARY:Les ateliers de la conférence Paris Web à l'ESG Management School
DESCRIPTION:\nLe 12 octobre prochain,  l'ESG Management School accueillera les ateliers de la conférence Paris Web 2013. Cet événement se déroulera dans le cadre du partenariat établit entre Paris Web et la...
URL:https://www.alumni-psbedu.paris/en/event/les-ateliers-de-la-conference-paris-web-a-l-esg-management-school/2013/10/12/73
BEGIN:VALARM
TRIGGER:-P0DT1H0M0S
ACTION:DISPLAY
END:VALARM
END:VEVENT
END:VCALENDAR