BEGIN:VCALENDAR
VERSION:2.0
PRODID:-//hacksw/handcal//NONSGML v1.0//EN
BEGIN:VEVENT
DTSTART:20141022T184500
DTEND:20141022T200000
LOCATION:Campus Cluster Paris Innovation \n59, Rue Nationale \n75013 PARIS
ORGANIZER;CN=Beata BORKOWSKA:MAILTO:
SUMMARY:MALAISE DANS L'INCULTURE. Conférence de Philippe Val
DESCRIPTION:\n \nPhilippe Val, ancien directeur de France Inter et ex Rédacteur en chef de Charlie Hebdo, a réalisé de multiples chroniques, articles et ouvrages qui questionnent le monde et l'évolution de nos...
URL:https://www.alumni-psbedu.paris/fr/event/malaise-dans-l-inculture-conference-de-philippe-val/2014/10/22/177
BEGIN:VALARM
TRIGGER:-P0DT1H0M0S
ACTION:DISPLAY
END:VALARM
END:VEVENT
END:VCALENDAR