BEGIN:VCALENDAR
VERSION:2.0
PRODID:-//hacksw/handcal//NONSGML v1.0//EN
BEGIN:VEVENT
DTSTART:20150611T173000
DTEND:20150611T203000
LOCATION:Campus Cluster Paris Innovation
ORGANIZER;CN=Beata BORKOWSKA:MAILTO:
SUMMARY:Social Media Awards 2015
DESCRIPTION:Les Social Media Awards (SMA), qui récompensent les stratégies « social media » d’entreprises ayant une activité sur les réseaux sociaux en France seront organisés pour la 4e année consécutive par...
URL:https://www.alumni-psbedu.paris/fr/event/social-media-awards-2015/2015/06/11/287
BEGIN:VALARM
TRIGGER:-P0DT1H0M0S
ACTION:DISPLAY
END:VALARM
END:VEVENT
END:VCALENDAR