BEGIN:VCALENDAR
VERSION:2.0
PRODID:-//hacksw/handcal//NONSGML v1.0//EN
BEGIN:VEVENT
DTSTART:20170221T184500
DTEND:20170221T210000
LOCATION:CCPI \n59, Rue nationale \n75013 PARIS
ORGANIZER;CN=Marie-Cécile CHEVALIER:MAILTO:mc.dislaire@psbedu.paris
SUMMARY:Conférence métiers : Business Consulting
DESCRIPTION:\nVous êtes diplômé de PSB Paris School of Business (ex-ESG MS)\net exercez dans le domaine de la\n- BUSINESS CONSULTING- \nVenez partager votre expérience avec les étudiants de votre école\n \nLe...
URL:https://www.alumni-psbedu.paris/fr/event/conference-metiers-business-consulting/2017/02/21/433
BEGIN:VALARM
TRIGGER:-P0DT1H0M0S
ACTION:DISPLAY
END:VALARM
END:VEVENT
END:VCALENDAR