BEGIN:VCALENDAR
VERSION:2.0
PRODID:-//hacksw/handcal//NONSGML v1.0//EN
BEGIN:VEVENT
DTSTART:20190121T200000
DTEND:20190121T223000
LOCATION:Must Grill \n881 Wuding Lu, Bldg 2, 1/F,
ORGANIZER;CN=Marie-Cécile CHEVALIER:MAILTO:mc.dislaire@psbedu.paris
SUMMARY:Save the Date pour l'Afterwork du club PSB Alumni Shanghai
DESCRIPTION:A l'initiative de Marc Dicko (PSB PGE 2012) et à l’occasion de la présence de Monsieur Armand Derhy, directeur de PSB Paris School of Business, à Shanghaï,nous vous proposons de vous retrouver lors...
URL:https://www.alumni-psbedu.paris/fr/event/save-the-date-pour-l-afterwork-du-club-psb-alumni-shanghai/2019/01/21/560
BEGIN:VALARM
TRIGGER:-P0DT1H0M0S
ACTION:DISPLAY
END:VALARM
END:VEVENT
END:VCALENDAR