BEGIN:VCALENDAR
VERSION:2.0
PRODID:-//hacksw/handcal//NONSGML v1.0//EN
BEGIN:VEVENT
DTSTART:20190328T180000
DTEND:20190328T220000
LOCATION:A Préciser \n77000 Marne la Vallée
ORGANIZER;CN=Marie-Cécile CHEVALIER:MAILTO:mc.dislaire@psbedu.paris
SUMMARY:Recrutement Crédit Agricole Brie Picardie
DESCRIPTION:Le Crédit Agricole Brie Picardie organise une soirée de recrutement #ToutCommenceici à destination des futurs jeunes diplômés (promo 2019) ou des anciens diplômés (promo 2017 ou 2018) qui aura lieu le...
URL:https://www.alumni-psbedu.paris/fr/event/recrutement-credit-agricole-brie-picardie/2019/03/28/568
BEGIN:VALARM
TRIGGER:-P0DT1H0M0S
ACTION:DISPLAY
END:VALARM
END:VEVENT
END:VCALENDAR