BEGIN:VCALENDAR
VERSION:2.0
PRODID:-//hacksw/handcal//NONSGML v1.0//EN
BEGIN:VEVENT
DTSTART:20191120T190000
DTEND:20191120T233000
LOCATION:824 Heures \n10 rue Papillon \n75009 Paris
ORGANIZER;CN=Marie-Cécile CHEVALIER:MAILTO:mc.dislaire@psbedu.paris
SUMMARY:INTERNATIONAL AFTERWORK #2
DESCRIPTION: INTERNATIONAL AFTERWORK #2\nPSB Alumni is proud to organize his second international afterwork bringing together Alumni and PSB Paris School of Business students with an international...
URL:https://www.alumni-psbedu.paris/fr/event/international-afterwork-2/2019/11/20/595
BEGIN:VALARM
TRIGGER:-P0DT1H0M0S
ACTION:DISPLAY
END:VALARM
END:VEVENT
END:VCALENDAR