BEGIN:VCALENDAR
VERSION:2.0
PRODID:-//hacksw/handcal//NONSGML v1.0//EN
BEGIN:VEVENT
DTSTART:20140324T090000
DTEND:20140324T180000
LOCATION:ESG Management School \n25, Rue Saint-Ambroise \n75011 PARIS
ORGANIZER;CN=Beata BORKOWSKA:MAILTO:
SUMMARY:4e édition du DDay : Quand l'art devient solidaire
DESCRIPTION:\n«  Quand l'art devient solidaire »\ndes projets artistiques au service des enjeux sociaux et humanitaires\n4e édition du DDAY\nsous le patronage de Little Shao,\nancien étudiant de la promotion...
URL:https://www.alumni-psbedu.paris/fr/event/4e-edition-du-dday-quand-l-art-devient-solidaire/2014/03/24/97
BEGIN:VALARM
TRIGGER:-P0DT1H0M0S
ACTION:DISPLAY
END:VALARM
END:VEVENT
END:VCALENDAR